BEGIN:VCALENDAR
VERSION:2.0
PRODID:-//VALE SU - ECPv6.15.20//NONSGML v1.0//EN
CALSCALE:GREGORIAN
METHOD:PUBLISH
X-ORIGINAL-URL:https://vale.sorbonne-universite.fr
X-WR-CALDESC:Évènements pour VALE SU
REFRESH-INTERVAL;VALUE=DURATION:PT1H
X-Robots-Tag:noindex
X-PUBLISHED-TTL:PT1H
BEGIN:VTIMEZONE
TZID:Europe/Paris
BEGIN:DAYLIGHT
TZOFFSETFROM:+0100
TZOFFSETTO:+0200
TZNAME:CEST
DTSTART:20230326T010000
END:DAYLIGHT
BEGIN:STANDARD
TZOFFSETFROM:+0200
TZOFFSETTO:+0100
TZNAME:CET
DTSTART:20231029T010000
END:STANDARD
BEGIN:DAYLIGHT
TZOFFSETFROM:+0100
TZOFFSETTO:+0200
TZNAME:CEST
DTSTART:20240331T010000
END:DAYLIGHT
BEGIN:STANDARD
TZOFFSETFROM:+0200
TZOFFSETTO:+0100
TZNAME:CET
DTSTART:20241027T010000
END:STANDARD
BEGIN:DAYLIGHT
TZOFFSETFROM:+0100
TZOFFSETTO:+0200
TZNAME:CEST
DTSTART:20250330T010000
END:DAYLIGHT
BEGIN:STANDARD
TZOFFSETFROM:+0200
TZOFFSETTO:+0100
TZNAME:CET
DTSTART:20251026T010000
END:STANDARD
END:VTIMEZONE
BEGIN:VEVENT
DTSTART;TZID=Europe/Paris:20240403T173000
DTEND;TZID=Europe/Paris:20240403T190000
DTSTAMP:20260424T052256
CREATED:20240328T155020Z
LAST-MODIFIED:20240328T155020Z
UID:6524-1712165400-1712170800@vale.sorbonne-universite.fr
SUMMARY:SEM Texte & Image: N. Manning\, “On the Dangers of True Feeling: Re-Imagining Literary Value Beyond Emotional Truth”
DESCRIPTION:Le centre de recherche Texte et Image a le plaisir de vous convier à sa prochaine séance. Nous recevrons Nicholas Manning (Université Grenoble Alpes) à l’occasion de la parution de son dernier livre\, The Artifice of Affect: American Realist Literature and Emotional Truth.\n\nIl interviendra le mercredi 3 avril à 17h30 dans la bibliothèque d’anglais en Sorbonne (G358\, esc. G\, 2ème étage\, accès par le 17 rue de la Sorbonne)\navec une communication intitulée :\n“On the Dangers of True Feeling: Re-Imagining Literary Value Beyond Emotional Truth”
URL:https://vale.sorbonne-universite.fr/event/sem-texte-image-n-manning-on-the-dangers-of-true-feeling-re-imagining-literary-value-beyond-emotional-truth/
LOCATION:Bibliothèque UFR d’études anglophones\, 1\, rue victor Cousin\, Paris
CATEGORIES:Liste complète,Séminaires ou conférences
END:VEVENT
BEGIN:VEVENT
DTSTART;TZID=Europe/Paris:20240404T170000
DTEND;TZID=Europe/Paris:20240404T183000
DTSTAMP:20260424T052256
CREATED:20231011T091149Z
LAST-MODIFIED:20240322T080801Z
UID:5671-1712250000-1712255400@vale.sorbonne-universite.fr
SUMMARY:04/04/2024\, 17 h 30\, Sém. Modernités 16-18\, Bib. de l'UFR Etudes anglophones: Lucy Munro
DESCRIPTION:Le prochain séminaire de Modernités 16-18/ShakeS aura lieu le jeudi 4 avril prochain\, de 17 h 30 à 19 h 00 à la Bibliothèque de l’UFR d’études anglophones (esc. G\, niveau G)\, en Sorbonne. Nous aurons le plaisir d’accueillir Lucy Munro (King’s College London) pour une intervention intitulée «  Marlowe\, Lyly and Children’s Performance in Late Elizabethan London ». \nNous espérons vous y retrouver nombreuses et nombreux\, \nBien amicalement\, \nLine (et pour Alexis) \n« Marlowe\, Lyly and Children’s Performance in Late Elizabethan London » \nThis paper offers a reappraisal of the children’s playing companies of late Elizabethan London. It offers new evidence for their management\, their relationships with the choirs of the Chapel Royal and St Paul’s Cathedral\, and how they acquired and maintained their actors\, exploring the implications of this material for how we understand the performance and publication history of plays such as John Lyly’s Galatea and Christopher Marlowe’s Dido\, Queen of Carthage \nLucy Munro is Professor of Shakespeare and Early Modern Literature at King’s College London. She has published three monographs – Childrenofthe Queen’s Revels: A Jacobean Theatre Repertory (Cambridge UP\, 2005)\, Archaic Style in English Literature\, 1590-1674 (Cambridge UP\, 2013)\, and Shakespeare in the Theatre: The King’s Men (Bloomsbury\, 2020) – and is the editor of plays such as Dekker\, Ford\, and Rowley’s The WitchofEdmonton (Bloomsbury\, 2016)\, Massinger’s The Picture\, in The Routledge AnthologyofEarly Modern Drama\, ed. Jeremy Lopez (Routledge\, 2020)\, and Shirley’s The GentlemanofVenice\, in The WorksofJames Shirley\, gen. ed. Eugene Giddens\, Teresa Grant and Barbara Ravelhofer (Oxford UP\, 2021). She is a contributor to two collaborative research projects that bring together archival research and practice-as-research\, Before Shakespeare and Engendering the Stage. Current projects include an edition of King Henry IV\, Part 1 for the Arden Shakespeare fourth series and a book on the cultural histories of early modern playhouses.
URL:https://vale.sorbonne-universite.fr/event/04-04-2024-sem-modernites-16-18/
LOCATION:Bibliothèque UFR d’études anglophones\, 1\, rue victor Cousin\, Paris
CATEGORIES:Liste complète,Séminaires ou conférences
END:VEVENT
BEGIN:VEVENT
DTSTART;TZID=Europe/Paris:20240404T170000
DTEND;TZID=Europe/Paris:20240404T183000
DTSTAMP:20260424T052256
CREATED:20240403T130250Z
LAST-MODIFIED:20240521T072109Z
UID:6537-1712250000-1712255400@vale.sorbonne-universite.fr
SUMMARY:SEM - Poetry Beyond - Cycle la poésie exposée - Hélène Aji - jeudi 4 avril à 17h - Salle des thèses (Campus des Cordeliers)
DESCRIPTION:Dans le cadre du Cycle interdisciplinaire « Du livre au mur ! La poésie exposée (musées\, galeries\, bibliothèques) »\, Hélène Aji (ENS rue d’Ulm) donnera une conférence intitulée «‘Expogrammes’ : les poèmes visuels de Jackson Mac Low » le jeudi 4 avril (de 17h à 18h30) dans la Salle des thèses du Campus des Cordeliers\, 15 rue de l’Ecole de Médecine (Métro : Odéon).
URL:https://vale.sorbonne-universite.fr/event/sem-poetry-beyond-cycle-la-poesie-exposee-helene-aji-jeudi-4-avril-a-17h-salle-des-theses-campus-des-cordeliers/
LOCATION:Salle des Thèses\, Site Cordeliers
CATEGORIES:Liste complète,Séminaires ou conférences
END:VEVENT
BEGIN:VEVENT
DTSTART;TZID=Europe/Paris:20240406T190000
DTEND;TZID=Europe/Paris:20240406T200000
DTSTAMP:20260424T052256
CREATED:20240403T125354Z
LAST-MODIFIED:20240521T072045Z
UID:6527-1712430000-1712433600@vale.sorbonne-universite.fr
SUMMARY:Poetry Reading - Saturday\, April 6 at 7:00 - After 8 Books (Paris 11e) - with Verity Spott\, Dolly Rae Star\, Kat Addis\, Joe Minden
DESCRIPTION:All the way from the wide ethereal and not-so-very-faraway shores of Brighton and Hove\, After Eight Books brings you a night of poetry and song to usher in the spring\, from four of the finest poets in all the land — Verity Spott\, Dolly Rae Star\, Kat Addis\, and Joseph Minden. Darlings of the très à la mode verse and revelry scene of the coves and grottoes of the U.K.’s South East coast\, Joe\, Kat\, Dolly and Verity also make up the travelling band known fondly as ‘The Beam-Eyed Babies’. Come ye for poetry and wonders\, all and sundry! \n\nVerity Spott is a poet from Brighton\, whose books include Hopelessness\, Click Away Close Door Say\, Poems of Sappho (in translation) and The North Road Songbook and Other Poems (forthcoming from Pilot Press\, Spring 2024).\nDolly Rae Star plays in poetry\, sound\, drag and magic. Movement\, paradox\, and transcendence. Let’s Dance!\nEmbracing their inner clown\, never-ending process of illumination\, their ever-shifting gender\, glorious and confounding neurodivergence\, and all life in its beautiful-horrorshow simple-complexity\, they live with fingers in many pies.\nPublications include: Quest)ion) (Veer Press\, 2022)\, Play Stance (Polyversity Press\, 2021) and OH PARACOSMIC BEING! (Thee VVinter Olympiks\, 2016). Work published by Ignota\, Earthbound\, Datableed\, Hesterglock and Litmus.\nJoseph Minden has written Paddock calls: the nightbook (slub press); Poppy (Carcanet) and Backlogues (Broken Sleep Books). He is writing another book\, called Answerlands.\nKat Addis has written Space Parsley (the87press) and The Song of the Fucking Rose (slub press).
URL:https://vale.sorbonne-universite.fr/event/poetry-reading-saturday-april-6-at-700-after-8-books-with-verity-spott-dolly-rae-star-kat-addis-joe-minden/
LOCATION:After 8 books\, 7 Rue Jarry\, 75010 Paris\, 7 rue Jarry\, Paris\, 75011
CATEGORIES:événements publics à l'agenda,Liste complète
END:VEVENT
BEGIN:VEVENT
DTSTART;TZID=Europe/Paris:20240424T100000
DTEND;TZID=Europe/Paris:20240424T120000
DTSTAMP:20260424T052256
CREATED:20231009T112323Z
LAST-MODIFIED:20231009T112323Z
UID:5645-1713952800-1713960000@vale.sorbonne-universite.fr
SUMMARY:SEM Genre et autorité\, 26/04/2024: Genre\, idéologie et antiwokisme
DESCRIPTION:Séminaire Genre & Autorité: « Genre\, savoir\, idéologie. Comment se situer? » \nLaure Murat: « Genre\, idéologie et antiwokisme« . Maison de la Recherche (Serpente)\, D040\, 10h-12h. \n 
URL:https://vale.sorbonne-universite.fr/event/sem-genre-et-autorite-26-04-2024-genre-ideologie-et-antiwokisme/
LOCATION:D 040 Maison Recherche
CATEGORIES:événements publics à l'agenda,Liste complète,Séminaires ou conférences
END:VEVENT
BEGIN:VEVENT
DTSTART;TZID=Europe/Paris:20240424T140000
DTEND;TZID=Europe/Paris:20240426T170000
DTSTAMP:20260424T052256
CREATED:20230413T134322Z
LAST-MODIFIED:20231116T145715Z
UID:5156-1713967200-1714150800@vale.sorbonne-universite.fr
SUMMARY:COLL VALE\, 24\, 25\, 26/04/2024: « La table dans les littératures et arts du monde anglophone »
DESCRIPTION:« La table dans les littératures et arts du monde anglophone » \n25-26 avril 2024 \nMaison de la recherche\, Sorbonne Université (salle à préciser) \nColloque organisé par l’unité de recherche VALE (Sorbonne Université) \n Organisateurs : Pauline Amy de la Bretèque\, Jaine Chemmachery\, Corentin Jégou\, Alexis Tadié \n———————— \nConférence plénière : Parama Roy (UC Davis) ? Michelle Coghlan (University of Manchester)? \nCe colloque s’intéressera autant aux représentations culinaires dans les littératures et arts du monde anglophone qu’aux approches théoriques et critiques de la question de la table au sens large. Il ouvrira le débat dans des directions à la fois théoriques et pratiques\, dans le prolongement opéré par les food studies dans les années 1990-2000 qui se donnaient pour objet « d’explorer la relation entre l’alimentation et l’expérience humaine à partir d’un large éventail de perspectives en sciences humaines et sociales\, souvent combinées entre elles » (Deutsch\, Miller\, 2009\, 3). Malgré cette ré-orientation\, les études littéraires ont tardé à considérer l’écriture culinaire comme objet littéraire et culturel (Coghlan 2020\, 3). C’est précisément ce retard que nous souhaitons interroger dans le cadre du colloque alors que l’alimentation s’avère un enjeu crucial à penser dans la période de crises\, notamment environnementale\, économique et sanitaire (forte augmentation des cas d’obésité et de diabète aux Etats-Unis\, dépendance alimentaire du Royaume-Uni vis-à-vis des importations européennes)\, que nous traversons et alors que notre époque est obsédée par ce qui tourne autour de la table (blogs de cuisine\, « foodie culture »\, « food porn »\, etc.). \nOn suggérera\, sans prétention d’exhaustivité\, des angles d’approche de cette réflexion sur la table dans les littératures et arts du monde anglophone qui pourront inclure : \n–   Poétiques de la table au sens large dans les littératures et arts du monde anglophone \n–   Ingestion et refus d’ingestion de nourriture\, à table et en dehors \n–   Avant et après la table \n–    Table et exotisme culinaire \n–    Transformations de l’alimentation\, des règles et de la sociabilité autour de la table \n–    Classe\, caste\, et statut social mis en jeu par la table ? \n–    A table : alimentation et pratiques identitaires \n–    Savoirs et écritures culinaires de la table \n–    Politiques de l’alimentation \n–    Addictions et intoxications \nCe colloque vient conclure le séminaire général de VALE consacré à la table dans le monde anglophone (2021-2023). Il donnera lieu à une publication. Les langues du colloque sont l’anglais et le français. Les communications seront d’une durée de 30 minutes. Les propositions de communication (environ 300 mots)\, accompagnées d’une courte bio-bibliographie\, sont à envoyer à l’adresse atable-vale@gmail.com avant le 30 juin 2023. La notification d’acceptation des propositions sera envoyée au plus tard en septembre 2023.
URL:https://vale.sorbonne-universite.fr/event/coll-vale-25-26-04-2023/
LOCATION:Maison de la Recherche salle 002\, Salle 002\, 28 rue Serpente\, Paris\, 75006
CATEGORIES:Colloques ou journées d'études,Liste complète
END:VEVENT
END:VCALENDAR