BEGIN:VCALENDAR
VERSION:2.0
PRODID:-//VALE SU - ECPv6.15.20//NONSGML v1.0//EN
CALSCALE:GREGORIAN
METHOD:PUBLISH
X-ORIGINAL-URL:https://vale.sorbonne-universite.fr
X-WR-CALDESC:Évènements pour VALE SU
REFRESH-INTERVAL;VALUE=DURATION:PT1H
X-Robots-Tag:noindex
X-PUBLISHED-TTL:PT1H
BEGIN:VTIMEZONE
TZID:Europe/Paris
BEGIN:DAYLIGHT
TZOFFSETFROM:+0100
TZOFFSETTO:+0200
TZNAME:CEST
DTSTART:20230326T010000
END:DAYLIGHT
BEGIN:STANDARD
TZOFFSETFROM:+0200
TZOFFSETTO:+0100
TZNAME:CET
DTSTART:20231029T010000
END:STANDARD
BEGIN:DAYLIGHT
TZOFFSETFROM:+0100
TZOFFSETTO:+0200
TZNAME:CEST
DTSTART:20240331T010000
END:DAYLIGHT
BEGIN:STANDARD
TZOFFSETFROM:+0200
TZOFFSETTO:+0100
TZNAME:CET
DTSTART:20241027T010000
END:STANDARD
BEGIN:DAYLIGHT
TZOFFSETFROM:+0100
TZOFFSETTO:+0200
TZNAME:CEST
DTSTART:20250330T010000
END:DAYLIGHT
BEGIN:STANDARD
TZOFFSETFROM:+0200
TZOFFSETTO:+0100
TZNAME:CET
DTSTART:20251026T010000
END:STANDARD
END:VTIMEZONE
BEGIN:VEVENT
DTSTART;TZID=Europe/Paris:20240201T173000
DTEND;TZID=Europe/Paris:20240201T190000
DTSTAMP:20260424T012245
CREATED:20230912T084319Z
LAST-MODIFIED:20230912T084356Z
UID:5462-1706808600-1706814000@vale.sorbonne-universite.fr
SUMMARY:01/02/2024: Sém. gén. VALE 4
DESCRIPTION:à préciser
URL:https://vale.sorbonne-universite.fr/event/01-02-2024-sem-gen-vale/
LOCATION:Bibliothèque UFR d’études anglophones\, 1\, rue victor Cousin\, Paris
CATEGORIES:Liste complète,Séminaires ou conférences
END:VEVENT
BEGIN:VEVENT
DTSTART;TZID=Europe/Paris:20240202T140000
DTEND;TZID=Europe/Paris:20240202T180000
DTSTAMP:20260424T012245
CREATED:20231113T122342Z
LAST-MODIFIED:20231113T122342Z
UID:6060-1706882400-1706896800@vale.sorbonne-universite.fr
SUMMARY:Soutenance d'HDR\,  Sylvie Kleiman-Lafon : « Approches transversales de la Grande-Bretagne du long XVIIIe siècle. Littératures\, savoirs\, traductions. »
DESCRIPTION:Sylvie Kleiman-Lafon : « Approches transversales de la Grande-Bretagne du long XVIIIe siècle. Littératures\, savoirs\, traductions. »
URL:https://vale.sorbonne-universite.fr/event/soutenance-dhdr-sylvie-kleiman-lafon-approches-transversales-de-la-grande-bretagne-du-long-xviiie-siecle-litteratures-savoirs-traductions/
CATEGORIES:Liste complète,Soutenances prévues
END:VEVENT
BEGIN:VEVENT
DTSTART;TZID=Europe/Paris:20240203T090000
DTEND;TZID=Europe/Paris:20240203T170000
DTSTAMP:20260424T012245
CREATED:20230628T144417Z
LAST-MODIFIED:20230914T091010Z
UID:5372-1706950800-1706979600@vale.sorbonne-universite.fr
SUMMARY:Journée d'étude: 03/02/2024\, Projet Emergence Canon Factory
DESCRIPTION:
URL:https://vale.sorbonne-universite.fr/event/journee-detude-03-02-2024-projet-emergence-canon-factory/
CATEGORIES:Colloques ou journées d'études,Liste complète
END:VEVENT
BEGIN:VEVENT
DTSTART;TZID=Europe/Paris:20240208T170000
DTEND;TZID=Europe/Paris:20240208T183000
DTSTAMP:20260424T012245
CREATED:20231029T085826Z
LAST-MODIFIED:20231113T122859Z
UID:5829-1707411600-1707417000@vale.sorbonne-universite.fr
SUMMARY:SEM Atelier 8/02/2024 POETRY BEYOND "Poésie\, corps\, photographie"
DESCRIPTION:Anne Carson\, Nox (2010)\nCette séance thématique “Poésie\, corps\, photographie” poursuivra les réflexions entamées par l’équipe de Poetry Beyond sur “Poésie\, corps\, scène” (1) puis “Poésie\, geste\, voix” (2) sous la forme d’un atelier-table ronde : \n\nAlexandra Buha (M1) et Valentin Fauque (D) présenteront d’abord ensemble quelques enjeux critiques et théoriques du thème choisi.\nTou.te.s les participant.e.s présenteront ensuite à tour de rôle (5mn) un poème de leur corpus faisant écho au thème commun de la séance.\n\nSéance ouverte aux enseignant.e.s-chercheur.se.s\, doctorant.e.s\, et étudiant.e.s de M1 et M2 travaillant sur un corpus de poésie anglophone. 
URL:https://vale.sorbonne-universite.fr/event/sem-atelier-8-02-2024-poetry-beyond-poesie-corps-photographie/
LOCATION:Sorbonne\, bibliothèque de l’UFR d’anglais (salle Louis Bonnerot)
CATEGORIES:Atelier de travail,Liste complète
END:VEVENT
BEGIN:VEVENT
DTSTART;TZID=Europe/Paris:20240208T173000
DTEND;TZID=Europe/Paris:20240208T190000
DTSTAMP:20260424T012245
CREATED:20231115T085905Z
LAST-MODIFIED:20231129T143008Z
UID:6108-1707413400-1707418800@vale.sorbonne-universite.fr
SUMMARY:SEM Transculturalismes : Kerry-Jane Wallart\, "Performing time in the Caribbean: Derek Walcott and Jamaica Kincaid"
DESCRIPTION:
URL:https://vale.sorbonne-universite.fr/event/sem-transculturalismes-kerry-jane-wallart-performing-time-in-the-caribbean-derek-walcott-and-jamaica-kincaid/
LOCATION:S 002\, Maison de la recherche
CATEGORIES:Liste complète,Séminaires ou conférences
END:VEVENT
BEGIN:VEVENT
DTSTART;TZID=Europe/Paris:20240214T180000
DTEND;TZID=Europe/Paris:20240214T193000
DTSTAMP:20260424T012245
CREATED:20231030T125123Z
LAST-MODIFIED:20231030T125125Z
UID:5868-1707933600-1707939000@vale.sorbonne-universite.fr
SUMMARY:SEM: 14/02 Texte & Image\, Françoise Sammarcelli (Faculté des Lettres\, Sorbonne Université) : « Matérialité/immatérialité : poétique de l’illisible dans T re e of Co des de Jonathan Safran Foer et Only Revolutions de Mark Z. Danielewski »
DESCRIPTION:Françoise Sammarcelli (Faculté des Lettres\, Sorbonne Université) : \n« Matérialité/immatérialité : poétique de l’illisible dans T re e of Co des de Jonathan Safran Foer et Only Revolutions de Mark Z. Danielewski »
URL:https://vale.sorbonne-universite.fr/event/sem-14-02-texte-image-francoise-sammarcelli-faculte-des-lettres-sorbonne-universite-materialite-immaterialite-poetique-de-lillisible-dans-t-re-e-of-co-des-de-jonathan-safran/
LOCATION:Bibliothèque UFR d’études anglophones\, 1\, rue victor Cousin\, Paris
CATEGORIES:Liste complète,Séminaires ou conférences
END:VEVENT
BEGIN:VEVENT
DTSTART;TZID=Europe/Paris:20240222T080000
DTEND;TZID=Europe/Paris:20240224T170000
DTSTAMP:20260424T012245
CREATED:20230628T133648Z
LAST-MODIFIED:20230628T133658Z
UID:5367-1708588800-1708794000@vale.sorbonne-universite.fr
SUMMARY:COLL:  « Across the Oceans: Post-Indentureship Trans-Oceanic Transformations »\, Pondichérry-Sorbonne
DESCRIPTION:Pondicherry\, \nColloque « Across the Oceans: Post-Indentureship Trans-Oceanic Transformations »\nDans le cadre du projet ANR ARENES\n22 – 24 février \n 
URL:https://vale.sorbonne-universite.fr/event/coll-across-the-oceans-post-indentureship-trans-oceanic-transformations-pondicherry-sorbonne/
LOCATION:Pondichérry
CATEGORIES:Colloques ou journées d'études,Liste complète
END:VEVENT
BEGIN:VEVENT
DTSTART;TZID=Europe/Paris:20240228T173000
DTEND;TZID=Europe/Paris:20240228T193000
DTSTAMP:20260424T012245
CREATED:20240228T073338Z
LAST-MODIFIED:20240521T072225Z
UID:6385-1709141400-1709148600@vale.sorbonne-universite.fr
SUMMARY:Sem PRITEPS: Bibliothèque Ascoli: Aloysia Rousseau\, "Théâtre et pandémie"\, en présence de l'auteur Dennis Kelly
DESCRIPTION:Chères et chers ami(e)s\, \nNous vous rappelons que la prochaine séance du séminaire du PRITEPS et de l’Initiative Théâtre aura lieu à la Bibliothèque Ascoli (17 rue de la Sorbonne\, escalier C\, 2e étage) demain\, mercredi 28 février\, de 17h30 à 19h30. \nDiscutante : Elisabeth Angel-Perez \n Aloysia ROUSSEAU (Sorbonne Université) : « Théâtre et pandémie: Together de Dennis Kelly »\,  \nsuivi d’une conversation avec l’auteur. Denis Kelly sera présent en visio. \n \n\nVoici le lien Zoom pour celles et ceux qui souhaiteraient suivre cette séance à distance :  \n\nhttps://zoom.us/j/89306208400?pwd=ckVaQWJXSjAwRFdrWnF2bnB3VjBkUT09\n\nID de réunion: 893 0620 8400\nCode secret: 185638\n\n\nAu plaisir de vous retrouver\, \nSilvia De Min
URL:https://vale.sorbonne-universite.fr/event/sem-priteps-bibliotheque-ascoli-aloysia-rousseau-theatre-et-pandemie-en-presence-de-lauteur-dennis-kelly/
LOCATION:Bibliothèque Ascoli
CATEGORIES:Liste complète,Séminaires ou conférences
END:VEVENT
BEGIN:VEVENT
DTSTART;TZID=Europe/Paris:20240229T170000
DTEND;TZID=Europe/Paris:20240229T183000
DTSTAMP:20260424T012245
CREATED:20231011T090802Z
LAST-MODIFIED:20231011T091800Z
UID:5666-1709226000-1709231400@vale.sorbonne-universite.fr
SUMMARY:Sém Modernités 16-18\, 29/02/2024
DESCRIPTION:Invité/e à préciser
URL:https://vale.sorbonne-universite.fr/event/sem-modernites-16-18-29-02-2024/
LOCATION:Bibliothèque UFR d’études anglophones\, 1\, rue victor Cousin\, Paris
CATEGORIES:Atelier de travail,Liste complète
END:VEVENT
BEGIN:VEVENT
DTSTART;TZID=Europe/Paris:20240229T170000
DTEND;TZID=Europe/Paris:20240229T183000
DTSTAMP:20260424T012245
CREATED:20231027T091201Z
LAST-MODIFIED:20231113T122838Z
UID:5792-1709226000-1709231400@vale.sorbonne-universite.fr
SUMMARY:SEM "Poetry on Exhibit": 2 UK-based case studies\, with Charlotte Ribeyrol and Stefano Evangelista
DESCRIPTION:Dans le cadre des travaux de Poetry Beyond sur la poésie anglophone hors du livre\, « Du livre au mur : la poésie exposée (musées\, galeries\, bibliothèques) »\, nous aurons le plaisir de recevoir deux chercheurs travaillant à l’intersection de la poésie et des études muséales\, porteurs chacun d’une exposition dans laquelle la poésie est ou était représentée : nous nous pencherons avec eux sur les stratégies d’exposition et de scénarisation du texte poétique dans l’espace du musée \n\nCharlotte Ribeyrol (VALE\, Chromotope): Colour Revolution: Victorian Art\, Fashion & Design (Ashmolean\, 21 September 2023-18 February 2024)\nStefano Evangelista (Oxford U): Happy in Berlin? Berlin Through English Eyes (Berlin and Oxford\, été 2021)
URL:https://vale.sorbonne-universite.fr/event/sem-poetry-on-exhibit-2-uk-based-case-studies-with-charlotte-ribeyrol-and-stefano-evangelista/
LOCATION:Salle des Thèses\, Site Cordeliers
CATEGORIES:Liste complète,Séminaires ou conférences
END:VEVENT
END:VCALENDAR