BEGIN:VCALENDAR
VERSION:2.0
PRODID:-//VALE SU - ECPv6.15.20//NONSGML v1.0//EN
CALSCALE:GREGORIAN
METHOD:PUBLISH
X-ORIGINAL-URL:https://vale.sorbonne-universite.fr
X-WR-CALDESC:Évènements pour VALE SU
REFRESH-INTERVAL;VALUE=DURATION:PT1H
X-Robots-Tag:noindex
X-PUBLISHED-TTL:PT1H
BEGIN:VTIMEZONE
TZID:Europe/Paris
BEGIN:DAYLIGHT
TZOFFSETFROM:+0100
TZOFFSETTO:+0200
TZNAME:CEST
DTSTART:20220327T010000
END:DAYLIGHT
BEGIN:STANDARD
TZOFFSETFROM:+0200
TZOFFSETTO:+0100
TZNAME:CET
DTSTART:20221030T010000
END:STANDARD
BEGIN:DAYLIGHT
TZOFFSETFROM:+0100
TZOFFSETTO:+0200
TZNAME:CEST
DTSTART:20230326T010000
END:DAYLIGHT
BEGIN:STANDARD
TZOFFSETFROM:+0200
TZOFFSETTO:+0100
TZNAME:CET
DTSTART:20231029T010000
END:STANDARD
BEGIN:DAYLIGHT
TZOFFSETFROM:+0100
TZOFFSETTO:+0200
TZNAME:CEST
DTSTART:20240331T010000
END:DAYLIGHT
BEGIN:STANDARD
TZOFFSETFROM:+0200
TZOFFSETTO:+0100
TZNAME:CET
DTSTART:20241027T010000
END:STANDARD
END:VTIMEZONE
BEGIN:VEVENT
DTSTART;TZID=Europe/Paris:20231005T180000
DTEND;TZID=Europe/Paris:20231005T193000
DTSTAMP:20260425T014744
CREATED:20230628T145228Z
LAST-MODIFIED:20231011T091427Z
UID:5384-1696528800-1696534200@vale.sorbonne-universite.fr
SUMMARY:SEM Modernités 16-18\, 18h - 19 h 30: S. Parageau
DESCRIPTION:Présentation par Sandrine Parageau de son ouvrage : \n  \n\nIn the early modern period\, ignorance was commonly perceived as a sin\, a flaw\, a defect\, and even a threat to religion and the social order. Yet praises of ignorance were also expressed in the same context. Reclaiming the long-lasting legacy of medieval doctrines of ignorance and taking a comparative perspective\, Sandrine Parageau tells the history of the apparently counter-intuitive moral\, cognitive and epistemological virtues attributed to ignorance in the long seventeenth century (1580s-1700) in England and in France. \nWith close textual analysis of hitherto neglected sources and a reassessment of canonical philosophical works by Montaigne\, Bacon\, Descartes\, Locke\, and others\, Parageau specifically examines the role of ignorance in the production of knowledge\, identifying three common virtues of ignorance as a mode of wisdom\, a principle of knowledge\, and an epistemological instrument\, in philosophical and theological works. How could an essentially negative notion be turned into something profitable and even desirable? Taken in the context of Renaissance humanism\, the Reformation and the « Scientific Revolution »—which all called for a redefinition and reaffirmation of knowledge—ignorance\, Parageau finds\, was not dismissed in the early modern quest for renewed ways of thinking and knowing. On the contrary\, it was assimilated into the philosophical and scientific discourses of the time. The rehabilitation of ignorance emerged as a paradoxical cornerstone of the nascent modern science. \n  \n\nAbout the author \n\nSandrine Parageau is Professor of Early Modern British History at Sorbonne University and a Fellow of the Institut Universitaire de France.
URL:https://vale.sorbonne-universite.fr/event/sem-modernites-16-_-18-1/
LOCATION:Bibliothèque UFR d’études anglophones\, 1\, rue victor Cousin\, Paris
CATEGORIES:Liste complète,Séminaires ou conférences
ATTACH;FMTTYPE=image/jpeg:https://vale.sorbonne-universite.fr/wp-content/uploads/2023/06/pid_34684.jpg
END:VEVENT
BEGIN:VEVENT
DTSTART;TZID=Europe/Paris:20231018T180000
DTEND;TZID=Europe/Paris:20231018T193000
DTSTAMP:20260425T014744
CREATED:20231009T110221Z
LAST-MODIFIED:20231009T110324Z
UID:5633-1697652000-1697657400@vale.sorbonne-universite.fr
SUMMARY:SEM "Genre et autorité" : 18/10/2024
DESCRIPTION:« Genre et autorité extra-muros »\, table ronde autour de Edelweiss de Sylvain Creuzevault (fascisme\, arts et genre)\, théâtre de l’Odéon\, salle Roger Blin. 18h-19h30. \nInscription gratuite mais obligatoire à l’adresse suivante : reservationenseignement@theatre-odeon.fr ou au numéro de téléphone : 01 44 85 40 33 (auprès de Gaël Schlatter)\, en indiquant « Séminaire Contrepoints autour de Edelweiss » et le nom de Frédéric Regard \nPossibilité de réserver en même temps des places pour le spectacle à tarif réduit (12 euros) à la même adresse en indiquant également « Séminaire Contrepoints » et le nom d’Anne Tomiche. Le spectacle a lieu aux Ateliers Berthier\, 1 rue André Suarès\, 75017 Paris.
URL:https://vale.sorbonne-universite.fr/event/sem-genre-et-autorite-18-10-2024/
LOCATION:Théâtre de l’Odéon
CATEGORIES:événements publics à l'agenda,Liste complète,Séminaires ou conférences
END:VEVENT
BEGIN:VEVENT
DTSTART;TZID=Europe/Paris:20231019T160000
DTEND;TZID=Europe/Paris:20231019T170000
DTSTAMP:20260425T014744
CREATED:20230912T075829Z
LAST-MODIFIED:20230914T064024Z
UID:5443-1697731200-1697734800@vale.sorbonne-universite.fr
SUMMARY:AG extraordinaire de VALE
DESCRIPTION:Renouvellement des instances de l’unité
URL:https://vale.sorbonne-universite.fr/event/ag-extraordinaire-de-vale/
LOCATION:A préciser
CATEGORIES:Conseil,Liste complète
END:VEVENT
BEGIN:VEVENT
DTSTART;TZID=Europe/Paris:20231019T173000
DTEND;TZID=Europe/Paris:20231019T190000
DTSTAMP:20260425T014744
CREATED:20230912T080359Z
LAST-MODIFIED:20230912T080359Z
UID:5448-1697736600-1697742000@vale.sorbonne-universite.fr
SUMMARY:19/10/23: Séminaire Général VALE: Lancement du thème
DESCRIPTION:Programme à préciser
URL:https://vale.sorbonne-universite.fr/event/19-10-23-seminaire-general-vale-lancement-du-theme/
LOCATION:Bibliothèque UFR d’études anglophones\, 1\, rue victor Cousin\, Paris
CATEGORIES:Liste complète,Séminaires ou conférences
END:VEVENT
BEGIN:VEVENT
DTSTART;TZID=Europe/Paris:20231024T090000
DTEND;TZID=Europe/Paris:20231024T110000
DTSTAMP:20260425T014744
CREATED:20230929T140153Z
LAST-MODIFIED:20231019T155455Z
UID:5507-1698138000-1698145200@vale.sorbonne-universite.fr
SUMMARY:24/10/2023\, 9 h - 11 h 00: Conseil de VALE
DESCRIPTION:
URL:https://vale.sorbonne-universite.fr/event/24-10-2023-9-h-11-h-00-conseil-de-vale/
LOCATION:A préciser
CATEGORIES:Conseil,Liste complète
END:VEVENT
END:VCALENDAR