BEGIN:VCALENDAR
VERSION:2.0
PRODID:-//VALE SU - ECPv6.15.20//NONSGML v1.0//EN
CALSCALE:GREGORIAN
METHOD:PUBLISH
X-WR-CALNAME:VALE SU
X-ORIGINAL-URL:https://vale.sorbonne-universite.fr
X-WR-CALDESC:Évènements pour VALE SU
REFRESH-INTERVAL;VALUE=DURATION:PT1H
X-Robots-Tag:noindex
X-PUBLISHED-TTL:PT1H
BEGIN:VTIMEZONE
TZID:Europe/Paris
BEGIN:DAYLIGHT
TZOFFSETFROM:+0100
TZOFFSETTO:+0200
TZNAME:CEST
DTSTART:20230326T010000
END:DAYLIGHT
BEGIN:STANDARD
TZOFFSETFROM:+0200
TZOFFSETTO:+0100
TZNAME:CET
DTSTART:20231029T010000
END:STANDARD
BEGIN:DAYLIGHT
TZOFFSETFROM:+0100
TZOFFSETTO:+0200
TZNAME:CEST
DTSTART:20240331T010000
END:DAYLIGHT
BEGIN:STANDARD
TZOFFSETFROM:+0200
TZOFFSETTO:+0100
TZNAME:CET
DTSTART:20241027T010000
END:STANDARD
BEGIN:DAYLIGHT
TZOFFSETFROM:+0100
TZOFFSETTO:+0200
TZNAME:CEST
DTSTART:20250330T010000
END:DAYLIGHT
BEGIN:STANDARD
TZOFFSETFROM:+0200
TZOFFSETTO:+0100
TZNAME:CET
DTSTART:20251026T010000
END:STANDARD
END:VTIMEZONE
BEGIN:VEVENT
DTSTART;TZID=Europe/Paris:20241010T173000
DTEND;TZID=Europe/Paris:20241010T190000
DTSTAMP:20260422T001452
CREATED:20240621T072656Z
LAST-MODIFIED:20240923T124307Z
UID:6686-1728581400-1728586800@vale.sorbonne-universite.fr
SUMMARY:SEM VALE général - 10 oct 2024 - Estelle Zhong-Mengual (Beaux-Arts)\, « Styles d’attention pour le vivant : peinture et histoire naturelle en Angleterre et aux États-Unis au XIXème siècle »
DESCRIPTION:10 octobre 2024: Estelle Zhong-Mengual (Beaux-Arts)\, « Styles d’attention pour le vivant : peinture et histoire naturelle en Angleterre et aux États-Unis au XIXème siècle »\nRésumé: À travers une excursion dans la peinture de paysage états-unienne et les écrits de femmes naturalistes du XIXème siècle\, l’historienne de l’art Estelle Zhong Mengual propose d’interroger ces œuvres à l’aune du style d’attention au monde vivant qui y est déployé : quelles sont les relations\, dispositions\, attitudes déployées à l’égard des plantes\, des animaux non humains et des milieux\, rendues sensibles grâce au travail pictural et littéraire ? Dans quelle mesure ce style d’attention fait-il effraction du style d’attention au vivant caractéristique de la modernité dont nous héritons\, qui peine à reconnaître l’altérité des formes de vie autres qu’humaines et leur capacité à revêtir des significations autonomes des projections   Estelle Zhong Mengual est historienne de l’art. Normalienne et docteure\, elle a enseigné pendant six ans dans le Master Art et Politique (SPEAP) créé par Bruno Latour à Sciences Po\, et dirige la chaire « Habiter le paysage » aux Beaux-Arts de Paris. Ses recherches portent sur les relations que l’art\, passé et présent\, entretient avec le monde vivant. Elle est l’auteure de nombreux livres\, dont Apprendre à voir. Le point de vue du vivant (Actes Sud\, 2021)\, Peindre au corps à corps. Les fleurs et Georgia O’Keeffe (Actes Sud\, 2022). En 2023\, elle crée pour le Louvre\, avec le chorégraphe Jérôme Bel\, Danses non humaines\, un spectacle qui propose de faire l’expérience des relations que les chorégraphes ont créées avec le monde vivant.
URL:https://vale.sorbonne-universite.fr/event/sem-10-oct-2024-estelle-zhong-mengual-beaux-arts-styles-dattention-pour-le-vivant-peinture-et-histoire-naturelle-en-angleterre-et-aux-etats-unis-au-xixeme-siecle/
LOCATION:Sorbonne\, bibliothèque de l’UFR d’anglais (salle Louis Bonnerot)
CATEGORIES:Liste complète,Séminaires ou conférences
END:VEVENT
END:VCALENDAR