BEGIN:VCALENDAR
VERSION:2.0
PRODID:-//VALE SU - ECPv6.15.20//NONSGML v1.0//EN
CALSCALE:GREGORIAN
METHOD:PUBLISH
X-WR-CALNAME:VALE SU
X-ORIGINAL-URL:https://vale.sorbonne-universite.fr
X-WR-CALDESC:Évènements pour VALE SU
REFRESH-INTERVAL;VALUE=DURATION:PT1H
X-Robots-Tag:noindex
X-PUBLISHED-TTL:PT1H
BEGIN:VTIMEZONE
TZID:Europe/Paris
BEGIN:DAYLIGHT
TZOFFSETFROM:+0100
TZOFFSETTO:+0200
TZNAME:CEST
DTSTART:20230326T010000
END:DAYLIGHT
BEGIN:STANDARD
TZOFFSETFROM:+0200
TZOFFSETTO:+0100
TZNAME:CET
DTSTART:20231029T010000
END:STANDARD
BEGIN:DAYLIGHT
TZOFFSETFROM:+0100
TZOFFSETTO:+0200
TZNAME:CEST
DTSTART:20240331T010000
END:DAYLIGHT
BEGIN:STANDARD
TZOFFSETFROM:+0200
TZOFFSETTO:+0100
TZNAME:CET
DTSTART:20241027T010000
END:STANDARD
BEGIN:DAYLIGHT
TZOFFSETFROM:+0100
TZOFFSETTO:+0200
TZNAME:CEST
DTSTART:20250330T010000
END:DAYLIGHT
BEGIN:STANDARD
TZOFFSETFROM:+0200
TZOFFSETTO:+0100
TZNAME:CET
DTSTART:20251026T010000
END:STANDARD
END:VTIMEZONE
BEGIN:VEVENT
DTSTART;TZID=Europe/Paris:20240320T090000
DTEND;TZID=Europe/Paris:20240320T170000
DTSTAMP:20260421T182756
CREATED:20230912T075455Z
LAST-MODIFIED:20231025T145203Z
UID:5441-1710925200-1710954000@vale.sorbonne-universite.fr
SUMMARY:20/03/2024 : JE “La résilience en mots et en corps”\, Lancement du projet ESTHER\, Salle des Actes
DESCRIPTION:« La résilience en mots et en corps » \nJournée d’étude interdisciplinaire et créative \nSorbonne Université – 20 mars 2024 \n  \nArgumentaire \nCette journée d’études bilingue s’intéresse au concept de résilience\, mot-clé de notre époque s’il en est\, et s’attache à en croiser les définitions à travers plusieurs disciplines scientifiques et artistiques. Son approche méthodologique se veut innovante et propre à stimuler la discussion comme l’expérimentation : des spécialistes de champs très divers sont ainsi invités à présenter\, selon des formats courts\, la façon dont la résilience se définit et s’illustre dans leurs travaux ou leur domaine\, avant de prendre part à des exercices d’improvisation théâtrale guidés par des artistes afin d’explorer l’incarnation du concept et sa résonance dans le corps collectif. La journée se terminera par une lecture de scènes théâtralisée. \nCette journée d’études vise aussi à favoriser la constitution d’un réseau d’échange en se mettant à l’écoute des travaux d’autres disciplines à l’orée d’une recherche au long cours sur la résilience au théâtre. Il ne s’agira pas d’ambitionner une définition unique ou absolue du terme « résilience »\, mais plutôt d’en explorer les ramifications\, les contradictions\, les images et les incarnations. On s’interrogera\, entre autres\, sur la façon dont chaque discipline aborde les éléments ou les questions qui suivent : \n\nLa tension entre l’individuel et le collectif : la résilience peut-elle se définir autrement qu’au sein d’un groupe ?\nL’apport spécifique de la résilience à chaque champ : nouvelle idée ou nouvelle formulation ? L’émergence de la notion correspond-elle à un tournant conceptuel\, à de nouvelles nécessités sociétales\, à une pensée typiquement contemporaine ?\nPeut-on mesurer la résilience ; et si oui\, comment ? Le test de Charpy mesure la résilience de l’acier\, mais comment s’y prend-on lorsqu’il s’agit d’une ville ou d’un individu ?\nQuelles dynamiques l’idée de résilience nous engage-t-elle à visualiser (on peut penser au couple anglais « bounce back/ bounce forward »\, et se demander si on « rebondit » vers l’avant ou vers l’arrière) ?\nAvec quels termes la résilience entre-t-elle en réseau d’écho et d’opposition ? (élasticité\, endurance\, malléabilité\, homéostase\, ductilité\, mais aussi risque ou vulnérabilité… le travail d’improvisation\, dans la lignée des travaux de Jacques Lecoq\, permettra justement de visualiser les différentes connotations de tous ces termes associés ou contrastés)\nComment tracer les contours d’approches rigoureuses de la résilience dans un contexte saturé d’usages médiatiques flous (voire moralisateurs) ? Faut-il poser des limites à ce que le concept peut dire et faire ?\n\n  \nProgramme détaillé à venir. \nInscription gratuite et obligatoire (julie.vatain@sorbonne-unviersité.fr).
URL:https://vale.sorbonne-universite.fr/event/30-03-2024-je-la-resilience-en-mots-et-en-corps-lancement-du-projet-esther-salle-des-actes/
LOCATION:Sorbonne\, Salle des Actes
CATEGORIES:Colloques ou journées d'études,Liste complète
ATTACH;FMTTYPE=image/jpeg:https://vale.sorbonne-universite.fr/wp-content/uploads/2023/10/JE-projet-ESTHER.jpg
END:VEVENT
END:VCALENDAR