BEGIN:VCALENDAR
VERSION:2.0
PRODID:-//VALE SU - ECPv6.15.20//NONSGML v1.0//EN
CALSCALE:GREGORIAN
METHOD:PUBLISH
X-ORIGINAL-URL:https://vale.sorbonne-universite.fr
X-WR-CALDESC:Évènements pour VALE SU
REFRESH-INTERVAL;VALUE=DURATION:PT1H
X-Robots-Tag:noindex
X-PUBLISHED-TTL:PT1H
BEGIN:VTIMEZONE
TZID:Europe/Paris
BEGIN:DAYLIGHT
TZOFFSETFROM:+0100
TZOFFSETTO:+0200
TZNAME:CEST
DTSTART:20210328T010000
END:DAYLIGHT
BEGIN:STANDARD
TZOFFSETFROM:+0200
TZOFFSETTO:+0100
TZNAME:CET
DTSTART:20211031T010000
END:STANDARD
BEGIN:DAYLIGHT
TZOFFSETFROM:+0100
TZOFFSETTO:+0200
TZNAME:CEST
DTSTART:20220327T010000
END:DAYLIGHT
BEGIN:STANDARD
TZOFFSETFROM:+0200
TZOFFSETTO:+0100
TZNAME:CET
DTSTART:20221030T010000
END:STANDARD
BEGIN:DAYLIGHT
TZOFFSETFROM:+0100
TZOFFSETTO:+0200
TZNAME:CEST
DTSTART:20230326T010000
END:DAYLIGHT
BEGIN:STANDARD
TZOFFSETFROM:+0200
TZOFFSETTO:+0100
TZNAME:CET
DTSTART:20231029T010000
END:STANDARD
END:VTIMEZONE
BEGIN:VEVENT
DTSTART;TZID=Europe/Paris:20220512T160000
DTEND;TZID=Europe/Paris:20220512T173000
DTSTAMP:20260421T122356
CREATED:20210525T150025Z
LAST-MODIFIED:20220830T085521Z
UID:3796-1652371200-1652376600@vale.sorbonne-universite.fr
SUMMARY:Poetry Beyond (Workshop) - Poésie polyglotte (3) : Tensions et foisonnements intralinguistiques : régionalismes\, dialectes\, argots et archaïsmes dans les poèmes de langue(s) anglaise(s)
DESCRIPTION:Si la poésie anglophone est bien une poésie polyglotte\, ce n’est pas simplement en raison des échanges et transactions interlinguistiques : régionalismes\, dialectes\, argots et archaïsmes témoignent également d’un foisonnement et de tensions intralinguistiques qui méritent également qu’on se penche sur la pluralité du poème dit de langue anglaise. \n(Atelier en présentiel ouvert aux Masterant.e.s\, Doctorant.e.s et EC)
URL:https://vale.sorbonne-universite.fr/event/poetry-beyond-workshop-poesie-polyglotte-3-tensions-et-foisonnements-intralinguistiques-regionalismes-dialectes-argots-et-archaismes-dans-les-poemes-de-langues-anglai/
CATEGORIES:Atelier de travail,Liste complète
END:VEVENT
END:VCALENDAR