BEGIN:VCALENDAR
VERSION:2.0
PRODID:-//VALE SU - ECPv6.15.20//NONSGML v1.0//EN
CALSCALE:GREGORIAN
METHOD:PUBLISH
X-WR-CALNAME:VALE SU
X-ORIGINAL-URL:https://vale.sorbonne-universite.fr
X-WR-CALDESC:Évènements pour VALE SU
REFRESH-INTERVAL;VALUE=DURATION:PT1H
X-Robots-Tag:noindex
X-PUBLISHED-TTL:PT1H
BEGIN:VTIMEZONE
TZID:Europe/Paris
BEGIN:DAYLIGHT
TZOFFSETFROM:+0100
TZOFFSETTO:+0200
TZNAME:CEST
DTSTART:20200329T010000
END:DAYLIGHT
BEGIN:STANDARD
TZOFFSETFROM:+0200
TZOFFSETTO:+0100
TZNAME:CET
DTSTART:20201025T010000
END:STANDARD
BEGIN:DAYLIGHT
TZOFFSETFROM:+0100
TZOFFSETTO:+0200
TZNAME:CEST
DTSTART:20210328T010000
END:DAYLIGHT
BEGIN:STANDARD
TZOFFSETFROM:+0200
TZOFFSETTO:+0100
TZNAME:CET
DTSTART:20211031T010000
END:STANDARD
BEGIN:DAYLIGHT
TZOFFSETFROM:+0100
TZOFFSETTO:+0200
TZNAME:CEST
DTSTART:20220327T010000
END:DAYLIGHT
BEGIN:STANDARD
TZOFFSETFROM:+0200
TZOFFSETTO:+0100
TZNAME:CET
DTSTART:20221030T010000
END:STANDARD
END:VTIMEZONE
BEGIN:VEVENT
DTSTART;TZID=Europe/Paris:20211125T160000
DTEND;TZID=Europe/Paris:20211125T173000
DTSTAMP:20260422T122444
CREATED:20211005T080426Z
LAST-MODIFIED:20211005T084314Z
UID:3786-1637856000-1637861400@vale.sorbonne-universite.fr
SUMMARY:Poetry Beyond (Workshop) - Poésie polyglotte (1) : Multilinguismes à l’œuvre\, vers une créolisation de la poésie anglophone ?
DESCRIPTION:Au cours de cette séance-atelier\, nous examinerons le multilinguisme à l’œuvre dans des poèmes dits de langue anglaise. Les participant.es pourront envoyer en amont un ou deux « poèmes polyglottes » issus de leur propre corpus ou de leurs lectures personnelles pour mettre en lumière le foisonnement linguistique si mal représenté par la notion d’anglophonie. Peut-on parler à ce titre d’une créolisation de la poésie anglophone? \n  \n(Atelier en présentiel ouvert aux Masterant.e.s\, Doctorant.e.s et EC)
URL:https://vale.sorbonne-universite.fr/event/poetry-beyond-workshop-poesie-polyglotte-1-multilinguismes-a-loeuvre-vers-une-creolisation-de-la-poesie-anglophone/
LOCATION:Sorbonne G356
CATEGORIES:Atelier de travail,Liste complète
END:VEVENT
END:VCALENDAR