BEGIN:VCALENDAR
VERSION:2.0
PRODID:-//VALE SU - ECPv6.15.20//NONSGML v1.0//EN
CALSCALE:GREGORIAN
METHOD:PUBLISH
X-ORIGINAL-URL:https://vale.sorbonne-universite.fr
X-WR-CALDESC:Évènements pour VALE SU
REFRESH-INTERVAL;VALUE=DURATION:PT1H
X-Robots-Tag:noindex
X-PUBLISHED-TTL:PT1H
BEGIN:VTIMEZONE
TZID:Europe/Paris
BEGIN:DAYLIGHT
TZOFFSETFROM:+0100
TZOFFSETTO:+0200
TZNAME:CEST
DTSTART:20230326T010000
END:DAYLIGHT
BEGIN:STANDARD
TZOFFSETFROM:+0200
TZOFFSETTO:+0100
TZNAME:CET
DTSTART:20231029T010000
END:STANDARD
BEGIN:DAYLIGHT
TZOFFSETFROM:+0100
TZOFFSETTO:+0200
TZNAME:CEST
DTSTART:20240331T010000
END:DAYLIGHT
BEGIN:STANDARD
TZOFFSETFROM:+0200
TZOFFSETTO:+0100
TZNAME:CET
DTSTART:20241027T010000
END:STANDARD
BEGIN:DAYLIGHT
TZOFFSETFROM:+0100
TZOFFSETTO:+0200
TZNAME:CEST
DTSTART:20250330T010000
END:DAYLIGHT
BEGIN:STANDARD
TZOFFSETFROM:+0200
TZOFFSETTO:+0100
TZNAME:CET
DTSTART:20251026T010000
END:STANDARD
END:VTIMEZONE
BEGIN:VEVENT
DTSTART;TZID=Europe/Paris:20240229T170000
DTEND;TZID=Europe/Paris:20240229T183000
DTSTAMP:20260420T163409
CREATED:20231027T091201Z
LAST-MODIFIED:20231113T122838Z
UID:5792-1709226000-1709231400@vale.sorbonne-universite.fr
SUMMARY:SEM "Poetry on Exhibit": 2 UK-based case studies\, with Charlotte Ribeyrol and Stefano Evangelista
DESCRIPTION:Dans le cadre des travaux de Poetry Beyond sur la poésie anglophone hors du livre\, « Du livre au mur : la poésie exposée (musées\, galeries\, bibliothèques) »\, nous aurons le plaisir de recevoir deux chercheurs travaillant à l’intersection de la poésie et des études muséales\, porteurs chacun d’une exposition dans laquelle la poésie est ou était représentée : nous nous pencherons avec eux sur les stratégies d’exposition et de scénarisation du texte poétique dans l’espace du musée \n\nCharlotte Ribeyrol (VALE\, Chromotope): Colour Revolution: Victorian Art\, Fashion & Design (Ashmolean\, 21 September 2023-18 February 2024)\nStefano Evangelista (Oxford U): Happy in Berlin? Berlin Through English Eyes (Berlin and Oxford\, été 2021)
URL:https://vale.sorbonne-universite.fr/event/sem-poetry-on-exhibit-2-uk-based-case-studies-with-charlotte-ribeyrol-and-stefano-evangelista/
LOCATION:Salle des Thèses\, Site Cordeliers
CATEGORIES:Liste complète,Séminaires ou conférences
END:VEVENT
END:VCALENDAR