BEGIN:VCALENDAR
VERSION:2.0
PRODID:-//VALE SU - ECPv6.15.20//NONSGML v1.0//EN
CALSCALE:GREGORIAN
METHOD:PUBLISH
X-WR-CALNAME:VALE SU
X-ORIGINAL-URL:https://vale.sorbonne-universite.fr
X-WR-CALDESC:Évènements pour VALE SU
REFRESH-INTERVAL;VALUE=DURATION:PT1H
X-Robots-Tag:noindex
X-PUBLISHED-TTL:PT1H
BEGIN:VTIMEZONE
TZID:Europe/Paris
BEGIN:DAYLIGHT
TZOFFSETFROM:+0100
TZOFFSETTO:+0200
TZNAME:CEST
DTSTART:20220327T010000
END:DAYLIGHT
BEGIN:STANDARD
TZOFFSETFROM:+0200
TZOFFSETTO:+0100
TZNAME:CET
DTSTART:20221030T010000
END:STANDARD
BEGIN:DAYLIGHT
TZOFFSETFROM:+0100
TZOFFSETTO:+0200
TZNAME:CEST
DTSTART:20230326T010000
END:DAYLIGHT
BEGIN:STANDARD
TZOFFSETFROM:+0200
TZOFFSETTO:+0100
TZNAME:CET
DTSTART:20231029T010000
END:STANDARD
BEGIN:DAYLIGHT
TZOFFSETFROM:+0100
TZOFFSETTO:+0200
TZNAME:CEST
DTSTART:20240331T010000
END:DAYLIGHT
BEGIN:STANDARD
TZOFFSETFROM:+0200
TZOFFSETTO:+0100
TZNAME:CET
DTSTART:20241027T010000
END:STANDARD
END:VTIMEZONE
BEGIN:VEVENT
DTSTART;TZID=Europe/Paris:20231206T080000
DTEND;TZID=Europe/Paris:20231208T180000
DTSTAMP:20260423T082900
CREATED:20230918T071621Z
LAST-MODIFIED:20230918T072748Z
UID:5480-1701849600-1702058400@vale.sorbonne-universite.fr
SUMMARY:COLL: 6-8/12/2023\, ERC Chromotope "Colour Matters"
DESCRIPTION:Programme: ici
URL:https://vale.sorbonne-universite.fr/event/coll-erc-chromotope-colour-matters/
LOCATION:Ahsmoleon Museum\, Oxford
CATEGORIES:Colloques ou journées d'études,Liste complète
END:VEVENT
END:VCALENDAR