BEGIN:VCALENDAR
VERSION:2.0
PRODID:-//VALE SU - ECPv6.15.20//NONSGML v1.0//EN
CALSCALE:GREGORIAN
METHOD:PUBLISH
X-WR-CALNAME:VALE SU
X-ORIGINAL-URL:https://vale.sorbonne-universite.fr
X-WR-CALDESC:Évènements pour VALE SU
REFRESH-INTERVAL;VALUE=DURATION:PT1H
X-Robots-Tag:noindex
X-PUBLISHED-TTL:PT1H
BEGIN:VTIMEZONE
TZID:Europe/Paris
BEGIN:DAYLIGHT
TZOFFSETFROM:+0100
TZOFFSETTO:+0200
TZNAME:CEST
DTSTART:20240331T010000
END:DAYLIGHT
BEGIN:STANDARD
TZOFFSETFROM:+0200
TZOFFSETTO:+0100
TZNAME:CET
DTSTART:20241027T010000
END:STANDARD
BEGIN:DAYLIGHT
TZOFFSETFROM:+0100
TZOFFSETTO:+0200
TZNAME:CEST
DTSTART:20250330T010000
END:DAYLIGHT
BEGIN:STANDARD
TZOFFSETFROM:+0200
TZOFFSETTO:+0100
TZNAME:CET
DTSTART:20251026T010000
END:STANDARD
BEGIN:DAYLIGHT
TZOFFSETFROM:+0100
TZOFFSETTO:+0200
TZNAME:CEST
DTSTART:20260329T010000
END:DAYLIGHT
BEGIN:STANDARD
TZOFFSETFROM:+0200
TZOFFSETTO:+0100
TZNAME:CET
DTSTART:20261025T010000
END:STANDARD
END:VTIMEZONE
BEGIN:VEVENT
DTSTART;TZID=Europe/Paris:20250305T170000
DTEND;TZID=Europe/Paris:20250305T190000
DTSTAMP:20260422T001452
CREATED:20250312T122115Z
LAST-MODIFIED:20250312T122143Z
UID:7390-1741194000-1741201200@vale.sorbonne-universite.fr
SUMMARY:05/03/25: Sém PRITEPS/VALE: Xavier LEMOINE (Université Gustave Eiffel) « Sida : représentation des sexualités en crise sur les scènes étasuniennes ? » \, modération: Julie Vatain
DESCRIPTION:Nous vous rappelons que la prochaine séance du séminaire aura lieu à la Bibliothèque Ascoli (17 rue de la Sorbonne\, escalier C\, 2e étage)\,\nmercredi 5 mars de 17h30 à 19h30\, avec l’intervention suivante:\n\nXavier LEMOINE (Université Gustave Eiffel)\n« Sida : représentation des sexualités en crise sur les scènes étasuniennes ? »  \nDiscutante : Julie Vatain
URL:https://vale.sorbonne-universite.fr/event/05-03-25-sem-priteps-vale-xavier-lemoine-universite-gustave-eiffel-sida-representation-des-sexualites-en-crise-sur-les-scenes-etasuniennes-moderation-julie-vatain/
LOCATION:Bibliothèque Ascoli
CATEGORIES:Liste complète,Séminaires ou conférences
END:VEVENT
BEGIN:VEVENT
DTSTART;TZID=Europe/Paris:20250318T160000
DTEND;TZID=Europe/Paris:20250318T190000
DTSTAMP:20260422T001452
CREATED:20250214T082126Z
LAST-MODIFIED:20250214T082126Z
UID:7285-1742313600-1742324400@vale.sorbonne-universite.fr
SUMMARY:Atelier chorégraphique 18/03/25 “Dancing Resilience\, Performing Convalescence”
DESCRIPTION:
URL:https://vale.sorbonne-universite.fr/event/atelier-choregraphique-18-03-25-dancing-resilience-performing-convalescence/
LOCATION:Chapelle Saint-Louis (hôpital de la Pitié-Salpêtrière)
CATEGORIES:Atelier de travail,Liste complète
END:VEVENT
BEGIN:VEVENT
DTSTART;TZID=Europe/Paris:20250319T093000
DTEND;TZID=Europe/Paris:20250319T110000
DTSTAMP:20260422T001452
CREATED:20250214T081835Z
LAST-MODIFIED:20250214T082156Z
UID:7282-1742376600-1742382000@vale.sorbonne-universite.fr
SUMMARY:Bookclub 19/03/25 American Performance in 1976: The Evolution of an Avant-Garde by Marc Robinson
DESCRIPTION:
URL:https://vale.sorbonne-universite.fr/event/bookclub-19-03-25-american-performance-in-1976-the-evolution-of-an-avant-garde-by-marc-robinson/
LOCATION:Club des Enseignants (Sorbonne Université)
CATEGORIES:événements publics à l'agenda,Liste complète
END:VEVENT
END:VCALENDAR