BEGIN:VCALENDAR
VERSION:2.0
PRODID:-//VALE SU - ECPv6.15.20//NONSGML v1.0//EN
CALSCALE:GREGORIAN
METHOD:PUBLISH
X-ORIGINAL-URL:https://vale.sorbonne-universite.fr
X-WR-CALDESC:Évènements pour VALE SU
REFRESH-INTERVAL;VALUE=DURATION:PT1H
X-Robots-Tag:noindex
X-PUBLISHED-TTL:PT1H
BEGIN:VTIMEZONE
TZID:Europe/Paris
BEGIN:DAYLIGHT
TZOFFSETFROM:+0100
TZOFFSETTO:+0200
TZNAME:CEST
DTSTART:20180325T010000
END:DAYLIGHT
BEGIN:STANDARD
TZOFFSETFROM:+0200
TZOFFSETTO:+0100
TZNAME:CET
DTSTART:20181028T010000
END:STANDARD
BEGIN:DAYLIGHT
TZOFFSETFROM:+0100
TZOFFSETTO:+0200
TZNAME:CEST
DTSTART:20190331T010000
END:DAYLIGHT
BEGIN:STANDARD
TZOFFSETFROM:+0200
TZOFFSETTO:+0100
TZNAME:CET
DTSTART:20191027T010000
END:STANDARD
BEGIN:DAYLIGHT
TZOFFSETFROM:+0100
TZOFFSETTO:+0200
TZNAME:CEST
DTSTART:20200329T010000
END:DAYLIGHT
BEGIN:STANDARD
TZOFFSETFROM:+0200
TZOFFSETTO:+0100
TZNAME:CET
DTSTART:20201025T010000
END:STANDARD
END:VTIMEZONE
BEGIN:VEVENT
DTSTART;TZID=Europe/Paris:20190201T100000
DTEND;TZID=Europe/Paris:20190201T120000
DTSTAMP:20260422T122445
CREATED:20190403T120901Z
LAST-MODIFIED:20191128T164645Z
UID:1095-1549015200-1549022400@vale.sorbonne-universite.fr
SUMMARY:SEM\, Genre et autorité (PACT)\, H. Ravet\, "L'autorité des cheffes d'orchestre"\, 01/02/19
DESCRIPTION:Le séminaire de notre programme « Genre et autorité » démarrera l’année si ce n’est en fanfare en tout cas en orchestre puisque nous aurons le plaisir d’accueillir \nHyacinthe Ravet\nProfesseure de musicologie et sociologie de la musique \nL’autorité des cheffes d’orchestre \nVendredi 1er février 2019\, 10h-12h.\nSalle D323 de la Maison de la recherche (28 rue Serpente) \nNous nous réjouissons de vous y retrouver.\nBien cordialement\,\nAnne Tomiche\, Frédéric Regard\, Danielle Perrot-Corpet\, Martine Reid.
URL:https://vale.sorbonne-universite.fr/event/sem-genre-et-autorite-pact-h-ravet-lautorite-des-cheffes-dorchestre-01-02-19/
LOCATION:Maison de la Recherche salle 002\, Salle 002\, 28 rue Serpente\, Paris\, 75006
CATEGORIES:Liste complète,Séminaires ou conférences
END:VEVENT
BEGIN:VEVENT
DTSTART;TZID=Europe/Paris:20190207T173000
DTEND;TZID=Europe/Paris:20190207T190000
DTSTAMP:20260422T122445
CREATED:20190403T121154Z
LAST-MODIFIED:20190528T103834Z
UID:1098-1549560600-1549566000@vale.sorbonne-universite.fr
SUMMARY:SEM VALE: Conférence de Peter Boxall\, "Proust\, Joyce\, Beckett"\, 07/02/19 à 17h30
DESCRIPTION:Nous avons le plaisir de vous inviter à la prochaine séance du séminaire VALE qui se déroulera le jeudi 7 février à 17h30 (bibliothèque de l’UFR). \nNous y entendrons Peter Boxall (University of Sussex; Professeur invité\, Sorbonne Université) pour une présentation intitulée : \n“All twined together: Proust\, Joyce\, Beckett”. \nAbstract \nThis paper addresses Beckett’s reception of Joyce and Proust\, in terms of the ways in which all three writers account for the relation between mind and its various biopolitical extensions. Marcel writes\, in Proust’s A la recherche\, that the ‘contradiction of survival and annihilation’ are ‘strangely intertwined within me’\, and this twining is central to Proust’s imaginative apparatus. It is a central aim also of Joyce’s work to give aesthetic expression to the weaving of material forms around the ‘impalpable\, imperishable’ movement of mind\, in order to test the tensile strength of what Joyce calls the ‘strandentwining cable of all flesh’. \nThis paper will explore this twining in Proust and in Joyce\, as it works through Beckett’s writing\, from Dream of Fair to Middling Women to Worstward Ho. The work of Joyce and Proust is ‘all twined together’ in Beckett\, in such a way that it offers his work one of its key binding principles. The commingling of mind and matter in Beckett’s imagination is won from this joint legacy from Proust and Joyce. But to fully respond to this twining in all three writers it is necessary to understand how the forms of attachment that it enacts between mind and material – what Beckett calls in Proust (after Baudelaire) the ‘adequate union of subject and object’ – turns also around a form of dismantlement\, a falling into what Proust calls the ‘abyss of nonbeing’\, and what Beckett calls ‘the blessedness of absence’. Beckett’s work refuses some of the consolatory forms developed in Proust and Joyce\, exhibiting a greater scepticism concerning the power of the artwork to overcome the oppositions that it witnesses between the material and the imaginary; but in so doing it develops the logic of binding that drives Joyce and Proust to its ultimate conclusion. It is in Beckett’s reconceiving of Proust’s and Joyce’s aesthetics of binding and twining that the modernist body – machinic amalgam of mind and matter\, of animate and inanimate – finds its definitive expression.
URL:https://vale.sorbonne-universite.fr/event/1098/
LOCATION:Bibliothèque UFR d’études anglophones\, 1\, rue victor Cousin\, Paris
CATEGORIES:Liste complète,Séminaires ou conférences
END:VEVENT
BEGIN:VEVENT
DTSTART;TZID=Europe/Paris:20190218T140000
DTEND;TZID=Europe/Paris:20190218T160000
DTSTAMP:20260422T122445
CREATED:20190406T062319Z
LAST-MODIFIED:20190406T062319Z
UID:1228-1550498400-1550505600@vale.sorbonne-universite.fr
SUMMARY:SEM: Modernités\, Elisabeth Belmas\, « Méthodes et perspectives de recherche en histoire du (des) jeu(x) »\, 18/02
DESCRIPTION:Le prochain séminaire EARLY MODERN (Axe Modernités 16-18\, Unité de recherche VALE) se tiendra le lundi 18 février 2019\, de 14 h 00 – 16 h 00\, en Salle 421\, à la Maison de la Recherche de la Faculté des Lettres\, Sorbonne Université\, 28 rue Serpente\, 75006 Paris. \nNous aurons le plaisir de recevoir Elisabeth BELMAS (Université Paris XIII) pour une conférence intitulée: \n« Méthodes et perspectives de recherche en histoire du/des jeu/x ». \nElisabeth Belmas est historienne\, professeur émérite à l’Université Paris XIII. Elle travaille d’une part sur l’histoire du jeu dans la société française et en Europe du XVIe au XIXe siècles et d’autre part sur l’histoire de la santé\, des maladies et des politiques de santé dans la France moderne. Elle est l’auteur de l’étude désormais classique: E. Belmas\, Jouer autrefois. Essai sur le jeu dans la France moderne (XVIe-XVIIIe siècle) (2006)\, ainsi que de nombreux articles et chapitres sur le jeu. Ses études les plus récentes sur le sujet sont: « Les échanges ludiques entre la France et l’Espagne\, XVIe-XVIIe siècles »\, in Eric Roulet (dir.)\, Conquistadors\, négriers\, inquisiteurs. Trois figures majeures du monde colonial américain XVIe-XVIIIe siècles\,. Hommages à Bernard Grunberg (2018)\, et « Tricheurs et tricheries au jeu au XVIIIe siècle. La figure du chevalier d’industrie » dans la revue Droits (2017). Dans le domaine de l’histoire de la santé\, elle a récemment co-dirigé deux volumes collectifs: Les soldats du Roi à l’Hôtel des Invalides. Etude d’épidémiologie historique (1670-1791) (2018)\, avec J. Coste\, et L’orchestration de la mort. Les funérailles des temps modernes à l’époque contemporaine (2017)\, avec S. Nonnis-Vigilante.
URL:https://vale.sorbonne-universite.fr/event/sem-modernites-elisabeth-belmas-methodes-et-perspectives-de-recherche-en-histoire-du-des-jeux-18-02/
CATEGORIES:Liste complète,Séminaires ou conférences
END:VEVENT
END:VCALENDAR