BEGIN:VCALENDAR
VERSION:2.0
PRODID:-//VALE SU - ECPv6.15.20//NONSGML v1.0//EN
CALSCALE:GREGORIAN
METHOD:PUBLISH
X-ORIGINAL-URL:https://vale.sorbonne-universite.fr
X-WR-CALDESC:Évènements pour VALE SU
REFRESH-INTERVAL;VALUE=DURATION:PT1H
X-Robots-Tag:noindex
X-PUBLISHED-TTL:PT1H
BEGIN:VTIMEZONE
TZID:Europe/Paris
BEGIN:DAYLIGHT
TZOFFSETFROM:+0100
TZOFFSETTO:+0200
TZNAME:CEST
DTSTART:20180325T010000
END:DAYLIGHT
BEGIN:STANDARD
TZOFFSETFROM:+0200
TZOFFSETTO:+0100
TZNAME:CET
DTSTART:20181028T010000
END:STANDARD
BEGIN:DAYLIGHT
TZOFFSETFROM:+0100
TZOFFSETTO:+0200
TZNAME:CEST
DTSTART:20190331T010000
END:DAYLIGHT
BEGIN:STANDARD
TZOFFSETFROM:+0200
TZOFFSETTO:+0100
TZNAME:CET
DTSTART:20191027T010000
END:STANDARD
BEGIN:DAYLIGHT
TZOFFSETFROM:+0100
TZOFFSETTO:+0200
TZNAME:CEST
DTSTART:20200329T010000
END:DAYLIGHT
BEGIN:STANDARD
TZOFFSETFROM:+0200
TZOFFSETTO:+0100
TZNAME:CET
DTSTART:20201025T010000
END:STANDARD
END:VTIMEZONE
BEGIN:VEVENT
DTSTART;TZID=Europe/Paris:20190114T133000
DTEND;TZID=Europe/Paris:20190114T170000
DTSTAMP:20260422T122444
CREATED:20191129T002616Z
LAST-MODIFIED:20191129T010303Z
UID:2507-1547472600-1547485200@vale.sorbonne-universite.fr
SUMMARY:SEM\, "L'Actuel" (PACT)\, séance du 14/01/2019
DESCRIPTION:Séminaire « L’Actuel »\nLe séminaire « L’Actuel » rassemble les chercheu.s.r.e.s qui s’intéressent la manière dont la littérature pense et écrit le temps.\nÀ partir d’un texte de théorie différent à chaque fois\, les séances génèrent une réflexion collective articulée aux préoccupations de recherche « actuelles » de chacun sous forme de séances de travail en groupe réduit. \nChaque participant.e envoie à l’avance un texte littéraire qu’elle/il a choisi et qui entre en résonance avec le texte de théorie proposé. À la lumière du texte\, elle/il expose en 5 minutes\, sans ambition d’exhaustivité\, la manière dont le texte littéraire qu’elle/il a choisi pense et écrit les formes de l’« actuel ». \nLaisser une mosaïque de pensées et de lectures prendre forme autour de la pensée du temps et de l’« actuel » en littérature\, permet de voir se dégager des lignes de convergence\, d’explorer des résonances\, et de faire émerger des approches critiques différentes pour les faire dialoguer. \nLa forme que prend cette pensée par fragments\, par « îlots » pour reprendre les termes de Maurice Blanchot\, nourrit une réflexion collective sur les textes et une forme d’élaboration théorique. \nResponsable : Juliana Lopoukhine \n14 janvier 2019: présentation de textes et de pensées critiques autour d’un texte de « Expérience et pauvreté » (1933). Œuvres II. Traduit de l’allemand par Maurice de Gandillac\, Rainer Rochlitz et Pierre Rusch. Paris : Gallimard\, 2000\, 364-72.
URL:https://vale.sorbonne-universite.fr/event/sem-lactuel-pact-seance-du-14-01-2019/
LOCATION:Maison de la Recherche salle 002\, Salle 002\, 28 rue Serpente\, Paris\, 75006
CATEGORIES:Liste complète,Séminaires ou conférences
END:VEVENT
BEGIN:VEVENT
DTSTART;TZID=Europe/Paris:20190125T173000
DTEND;TZID=Europe/Paris:20190125T193000
DTSTAMP:20260422T122444
CREATED:20190406T064053Z
LAST-MODIFIED:20190406T064412Z
UID:1241-1548437400-1548444600@vale.sorbonne-universite.fr
SUMMARY:SEM ShakeS: Sabine Schülting\, "Religion\, gender\, and the passions in The Merchant of Venice"
DESCRIPTION:Sabine Schülting (Freie Universität Berlin)\, \n“Affections dark as Erebus” – religion\, gender\, and the passions in The Merchant of Venice » \n25 Janvier BIS \n(séance commune avec PEMS)
URL:https://vale.sorbonne-universite.fr/event/sem-shakes-sabine-schulting-affections-dark-as-erebus-religion-gender-and-the-passions-in-the-merchant-of-venice/
LOCATION:Bibliothèque interuniversitaire de la Sorbonne
CATEGORIES:Liste complète,Séminaires ou conférences
END:VEVENT
END:VCALENDAR