BEGIN:VCALENDAR
VERSION:2.0
PRODID:-//VALE SU - ECPv6.15.20//NONSGML v1.0//EN
CALSCALE:GREGORIAN
METHOD:PUBLISH
X-WR-CALNAME:VALE SU
X-ORIGINAL-URL:https://vale.sorbonne-universite.fr
X-WR-CALDESC:Évènements pour VALE SU
REFRESH-INTERVAL;VALUE=DURATION:PT1H
X-Robots-Tag:noindex
X-PUBLISHED-TTL:PT1H
BEGIN:VTIMEZONE
TZID:Europe/Paris
BEGIN:DAYLIGHT
TZOFFSETFROM:+0100
TZOFFSETTO:+0200
TZNAME:CEST
DTSTART:20170326T010000
END:DAYLIGHT
BEGIN:STANDARD
TZOFFSETFROM:+0200
TZOFFSETTO:+0100
TZNAME:CET
DTSTART:20171029T010000
END:STANDARD
BEGIN:DAYLIGHT
TZOFFSETFROM:+0100
TZOFFSETTO:+0200
TZNAME:CEST
DTSTART:20180325T010000
END:DAYLIGHT
BEGIN:STANDARD
TZOFFSETFROM:+0200
TZOFFSETTO:+0100
TZNAME:CET
DTSTART:20181028T010000
END:STANDARD
BEGIN:DAYLIGHT
TZOFFSETFROM:+0100
TZOFFSETTO:+0200
TZNAME:CEST
DTSTART:20190331T010000
END:DAYLIGHT
BEGIN:STANDARD
TZOFFSETFROM:+0200
TZOFFSETTO:+0100
TZNAME:CET
DTSTART:20191027T010000
END:STANDARD
END:VTIMEZONE
BEGIN:VEVENT
DTSTART;TZID=Europe/Paris:20181109T173000
DTEND;TZID=Europe/Paris:20181109T193000
DTSTAMP:20260424T100401
CREATED:20190406T063846Z
LAST-MODIFIED:20190406T063903Z
UID:1238-1541784600-1541791800@vale.sorbonne-universite.fr
SUMMARY:SEM ShakeS: Gordon McMullan\, "The strange case of Susan Brotës"\, 09/11
DESCRIPTION:Gordon McMullan (King’s College / London Shakespeare Centre)\, « The strange case of Susan Brotës: how (not) to identify an early modern playwright ». \nsalle D 116\, maison de la recherche \n 
URL:https://vale.sorbonne-universite.fr/event/sem-shakes-gordon-mcmullan-the-strange-case-of-susan-brotes-09-11/
LOCATION:Maison de la Recherche salle 002\, Salle 002\, 28 rue Serpente\, Paris\, 75006
CATEGORIES:Liste complète,Séminaires ou conférences
END:VEVENT
BEGIN:VEVENT
DTSTART;TZID=Europe/Paris:20181116T100000
DTEND;TZID=Europe/Paris:20181116T120000
DTSTAMP:20260424T100401
CREATED:20191128T164104Z
LAST-MODIFIED:20191128T164557Z
UID:2486-1542362400-1542369600@vale.sorbonne-universite.fr
SUMMARY:SEM\, Genre et autorité (PACT)\, Y. Charbit\, "Les prostituées à Paris étaient-elles des « sauvages » (1830-1914) ?"\, 16/11/18
DESCRIPTION:La prochaine séance du séminaire « Genre et autorité » (organisé dans le cadre du Labex Obvil\, du CRLC et de VALE\, Faculté des Lettres de Sorbonne Université) aura lieu le vendredi 16 novembre 2018.\n\nNous aurons le plaisir d’accueillir:\n\nYves Charbit\nProfesseur émérite de démographie\, Université Paris Descartes\n\n« Les prostituées à Paris étaient-elles des « sauvages » (1830-1914) ? »\n\n\nVendredi 16 novembre 2018\, 10h-12h\,\nMaison de la Recherche (28 rue Serpente\, métro Odéon)\, salle 40.
URL:https://vale.sorbonne-universite.fr/event/sem-genre-et-autorite-pact-y-charbit-les-prostituees-a-paris-etaient-elles-des-sauvages-1830-1914-16-11-18/
LOCATION:D 040 Maison Recherche
CATEGORIES:Liste complète,Séminaires ou conférences
END:VEVENT
BEGIN:VEVENT
DTSTART;TZID=Europe/Paris:20181129T180000
DTEND;TZID=Europe/Paris:20181129T190000
DTSTAMP:20260424T100401
CREATED:20190403T121905Z
LAST-MODIFIED:20190528T103725Z
UID:1070-1543514400-1543518000@vale.sorbonne-universite.fr
SUMMARY:SEM Poetry Beyond : Autour de Bastien Goursaud\, 29/11/2018\, 18h-19h\, Maison de la Recherche\, salle D117
DESCRIPTION:Le premier workshop de l’axe Poetry Beyond : Critique\, Création\, Sciences Humaines aura lieu jeudi prochain 29 novembre\, 18h-19h en salle D 117 de la Maison de la Recherche (28 rue Serpente\, 75006). \nBastien Goursaud nous présentera ses recherches en cours sous le titre \n« ‘I would be somebody else’:  \nTexte\, performance et récit de soi chez Carol Ann Duffy et Jackie Kay. » \nCentré autour d’une discussion de textes critiques ou créatifs circulés en amont\, le format du workshop est le suivant:\n– 3-5 minutes de présentation des grandes lignes du texte par son auteur au début de la séance\n– 7-8 minutes de réponse par un(e) répondant désigné auparavant\, volontaire\, ou invité\n– 40 minutes de discussion autour du texte.
URL:https://vale.sorbonne-universite.fr/event/sem-poetry-beyond-workshop-29-11-2018-18h00-mr/
LOCATION:Serpente D117\, 28 rue Serpente\, Paris
CATEGORIES:Liste complète,Séminaires ou conférences
END:VEVENT
END:VCALENDAR