BEGIN:VCALENDAR
VERSION:2.0
PRODID:-//VALE SU - ECPv6.15.20//NONSGML v1.0//EN
CALSCALE:GREGORIAN
METHOD:PUBLISH
X-WR-CALNAME:VALE SU
X-ORIGINAL-URL:https://vale.sorbonne-universite.fr
X-WR-CALDESC:Évènements pour VALE SU
REFRESH-INTERVAL;VALUE=DURATION:PT1H
X-Robots-Tag:noindex
X-PUBLISHED-TTL:PT1H
BEGIN:VTIMEZONE
TZID:Europe/Paris
BEGIN:DAYLIGHT
TZOFFSETFROM:+0100
TZOFFSETTO:+0200
TZNAME:CEST
DTSTART:20200329T010000
END:DAYLIGHT
BEGIN:STANDARD
TZOFFSETFROM:+0200
TZOFFSETTO:+0100
TZNAME:CET
DTSTART:20201025T010000
END:STANDARD
BEGIN:DAYLIGHT
TZOFFSETFROM:+0100
TZOFFSETTO:+0200
TZNAME:CEST
DTSTART:20210328T010000
END:DAYLIGHT
BEGIN:STANDARD
TZOFFSETFROM:+0200
TZOFFSETTO:+0100
TZNAME:CET
DTSTART:20211031T010000
END:STANDARD
BEGIN:DAYLIGHT
TZOFFSETFROM:+0100
TZOFFSETTO:+0200
TZNAME:CEST
DTSTART:20220327T010000
END:DAYLIGHT
BEGIN:STANDARD
TZOFFSETFROM:+0200
TZOFFSETTO:+0100
TZNAME:CET
DTSTART:20221030T010000
END:STANDARD
END:VTIMEZONE
BEGIN:VEVENT
DTSTART;TZID=Europe/Paris:20210120T140000
DTEND;TZID=Europe/Paris:20210120T180000
DTSTAMP:20260424T125213
CREATED:20210123T103748Z
LAST-MODIFIED:20210123T103756Z
UID:3487-1611151200-1611165600@vale.sorbonne-universite.fr
SUMMARY:AG de VALE
DESCRIPTION:  \nChères et chers collègues\, \n  \nnous aurons le plaisir de nous retrouver pour la journée interne de VALE jeudi prochain\, même si nous ne pouvons que regretter que cet événement soit moins convivial que d’ordinaire en raison de la situation sanitaire. \n  \nNous commencerons par la partie scientifique à 14h. Caroline Magnin\, Clara Manco et Raphaël Rigal nous présenteront leur thèse\, qu’ils viennent tous de soutenir brillamment ces derniers mois. Puis Jaine Chemmachery\, que nous avons accueillie dans notre équipe cette année\, nous présentera ses travaux de recherche en cours. \n  \nAprès une courte pause\, nous nous retrouverons à 15h45 pour l’assemblée générale de VALE dont vous trouverez l’ordre du jour ci-dessous. \nOrdre du jour de l’Assemblée Générale 2021 de VALE \n\nAccueil\nBilan de l’année écoulée (thèses et HDR\, activités\, budget)\nDoctorant.e.s\nProjets scientifiques pour 2021\nColloque VALE 2021\nSéminaire VALE\nProjections budgétaires\nInternationalisation\nRevue Sillages critiques\nQuestions diverses
URL:https://vale.sorbonne-universite.fr/event/ag-de-vale/
CATEGORIES:Atelier de travail,Conseil,Liste complète
END:VEVENT
END:VCALENDAR