BEGIN:VCALENDAR
VERSION:2.0
PRODID:-//VALE SU - ECPv6.15.20//NONSGML v1.0//EN
CALSCALE:GREGORIAN
METHOD:PUBLISH
X-WR-CALNAME:VALE SU
X-ORIGINAL-URL:https://vale.sorbonne-universite.fr
X-WR-CALDESC:Évènements pour VALE SU
REFRESH-INTERVAL;VALUE=DURATION:PT1H
X-Robots-Tag:noindex
X-PUBLISHED-TTL:PT1H
BEGIN:VTIMEZONE
TZID:Europe/Paris
BEGIN:DAYLIGHT
TZOFFSETFROM:+0100
TZOFFSETTO:+0200
TZNAME:CEST
DTSTART:20220327T010000
END:DAYLIGHT
BEGIN:STANDARD
TZOFFSETFROM:+0200
TZOFFSETTO:+0100
TZNAME:CET
DTSTART:20221030T010000
END:STANDARD
BEGIN:DAYLIGHT
TZOFFSETFROM:+0100
TZOFFSETTO:+0200
TZNAME:CEST
DTSTART:20230326T010000
END:DAYLIGHT
BEGIN:STANDARD
TZOFFSETFROM:+0200
TZOFFSETTO:+0100
TZNAME:CET
DTSTART:20231029T010000
END:STANDARD
BEGIN:DAYLIGHT
TZOFFSETFROM:+0100
TZOFFSETTO:+0200
TZNAME:CEST
DTSTART:20240331T010000
END:DAYLIGHT
BEGIN:STANDARD
TZOFFSETFROM:+0200
TZOFFSETTO:+0100
TZNAME:CET
DTSTART:20241027T010000
END:STANDARD
END:VTIMEZONE
BEGIN:VEVENT
DTSTART;TZID=Europe/Paris:20230208T170000
DTEND;TZID=Europe/Paris:20230208T190000
DTSTAMP:20260424T184803
CREATED:20221214T062953Z
LAST-MODIFIED:20221214T062957Z
UID:4756-1675875600-1675882800@vale.sorbonne-universite.fr
SUMMARY:08/02/23\, 17 h00: Présentation de l'ouvrage d'A.-F. Quaireau\, "Le Féminin en partage"\, SUP\, 2022
DESCRIPTION:À l’occasion de la parution du livre Le Féminin en partage. Le voyage d’Anna Jameson au Canada (1836-1837)\, une présentation de l’ouvrage par son autrice\, Anne-Florence Quaireau\, se tiendra le mercredi 8 février 2023 à 17 h dans l’amphithéâtre Georges Molinié de la Maison de la Recherche. Cette présentation sera suivie d’un temps d’échange avec le public.
URL:https://vale.sorbonne-universite.fr/event/08-02-23-17-h00-presentation-de-louvrage-da-f-quaireau-le-feminin-en-partage-sup-2022/
LOCATION:Amphi Molinié\, 28 rue Serpente\, Paris\, 75006
CATEGORIES:événements publics à l'agenda,Liste complète
END:VEVENT
END:VCALENDAR