BEGIN:VCALENDAR
VERSION:2.0
PRODID:-//VALE SU - ECPv6.15.20//NONSGML v1.0//EN
CALSCALE:GREGORIAN
METHOD:PUBLISH
X-ORIGINAL-URL:https://vale.sorbonne-universite.fr
X-WR-CALDESC:Évènements pour VALE SU
REFRESH-INTERVAL;VALUE=DURATION:PT1H
X-Robots-Tag:noindex
X-PUBLISHED-TTL:PT1H
BEGIN:VTIMEZONE
TZID:Europe/Paris
BEGIN:DAYLIGHT
TZOFFSETFROM:+0100
TZOFFSETTO:+0200
TZNAME:CEST
DTSTART:20230326T010000
END:DAYLIGHT
BEGIN:STANDARD
TZOFFSETFROM:+0200
TZOFFSETTO:+0100
TZNAME:CET
DTSTART:20231029T010000
END:STANDARD
BEGIN:DAYLIGHT
TZOFFSETFROM:+0100
TZOFFSETTO:+0200
TZNAME:CEST
DTSTART:20240331T010000
END:DAYLIGHT
BEGIN:STANDARD
TZOFFSETFROM:+0200
TZOFFSETTO:+0100
TZNAME:CET
DTSTART:20241027T010000
END:STANDARD
BEGIN:DAYLIGHT
TZOFFSETFROM:+0100
TZOFFSETTO:+0200
TZNAME:CEST
DTSTART:20250330T010000
END:DAYLIGHT
BEGIN:STANDARD
TZOFFSETFROM:+0200
TZOFFSETTO:+0100
TZNAME:CET
DTSTART:20251026T010000
END:STANDARD
END:VTIMEZONE
BEGIN:VEVENT
DTSTART;TZID=Europe/Paris:20240208T170000
DTEND;TZID=Europe/Paris:20240208T183000
DTSTAMP:20260425T013301
CREATED:20231029T085826Z
LAST-MODIFIED:20231113T122859Z
UID:5829-1707411600-1707417000@vale.sorbonne-universite.fr
SUMMARY:SEM Atelier 8/02/2024 POETRY BEYOND "Poésie\, corps\, photographie"
DESCRIPTION:Anne Carson\, Nox (2010)\nCette séance thématique “Poésie\, corps\, photographie” poursuivra les réflexions entamées par l’équipe de Poetry Beyond sur “Poésie\, corps\, scène” (1) puis “Poésie\, geste\, voix” (2) sous la forme d’un atelier-table ronde : \n\nAlexandra Buha (M1) et Valentin Fauque (D) présenteront d’abord ensemble quelques enjeux critiques et théoriques du thème choisi.\nTou.te.s les participant.e.s présenteront ensuite à tour de rôle (5mn) un poème de leur corpus faisant écho au thème commun de la séance.\n\nSéance ouverte aux enseignant.e.s-chercheur.se.s\, doctorant.e.s\, et étudiant.e.s de M1 et M2 travaillant sur un corpus de poésie anglophone. 
URL:https://vale.sorbonne-universite.fr/event/sem-atelier-8-02-2024-poetry-beyond-poesie-corps-photographie/
LOCATION:Sorbonne\, bibliothèque de l’UFR d’anglais (salle Louis Bonnerot)
CATEGORIES:Atelier de travail,Liste complète
END:VEVENT
BEGIN:VEVENT
DTSTART;TZID=Europe/Paris:20240229T170000
DTEND;TZID=Europe/Paris:20240229T183000
DTSTAMP:20260425T013301
CREATED:20231011T090802Z
LAST-MODIFIED:20231011T091800Z
UID:5666-1709226000-1709231400@vale.sorbonne-universite.fr
SUMMARY:Sém Modernités 16-18\, 29/02/2024
DESCRIPTION:Invité/e à préciser
URL:https://vale.sorbonne-universite.fr/event/sem-modernites-16-18-29-02-2024/
LOCATION:Bibliothèque UFR d’études anglophones\, 1\, rue victor Cousin\, Paris
CATEGORIES:Atelier de travail,Liste complète
END:VEVENT
END:VCALENDAR